BEGIN:VCALENDAR
VERSION:2.0
PRODID:-//hacksw/handcal//NONSGML v1.0//EN
BEGIN:VEVENT
DTSTART:20250520T100000Z
DTEND:20250520T190000Z
LOCATION:AUDITORIUM4  \n485, Sint-Denijslaan \n9000 GENT
ORGANIZER;CN=Annelies Warreyn:MAILTO:annelies@wearenoa.be
SUMMARY:Scale-Up Marathon
DESCRIPTION:NOA vous emmène dans un après-midi inspirant sur l'équipe et la culture d'entrepriseNous examinons en profondeur comment créer une culture d’entreprise forte pour votre startup ou scale-up. Nous nous ...
URL:https://connect.wearenoa.be/en/event/scale-up-marathon/2025/05/20/99
BEGIN:VALARM
TRIGGER:-P0DT1H0M0S
ACTION:DISPLAY
END:VALARM
END:VEVENT
END:VCALENDAR